BEGIN:VCALENDAR
VERSION:2.0
PRODID:-//ChamberMaster//Event Calendar 2.0//EN
METHOD:PUBLISH
X-PUBLISHED-TTL:P3D
REFRESH-INTERVAL:P3D
CALSCALE:GREGORIAN
BEGIN:VEVENT
DTSTART:20251030T223000Z
DTEND:20251031T003000Z
X-MICROSOFT-CDO-ALLDAYEVENT:FALSE
SUMMARY:Nine & Networking (CHAMBER)
DESCRIPTION:SOLD OUT!\n\n\n\nJoin us for an exciting afternoon of networking and golf!\n\n\n\nNine & Networking is a series of informal golf meetups that offer professionals a platform for business networking in a relaxed and enjoyable setting. Attendees can expand their network\, build relationships\, and explore business opportunities while enjoying one of their favorite pastimes.\n\n\n\nTee Box Sponsorships Available! Sponsorship includes course signage only. Golfing admission is sold separately. Sponsors are invited to network after golfing is finished.\n\n\n\nAdmission includes nine holes of golf\, a cart\, and a drink voucher.\n\n\n\nWhen you attend this event\, you enter an area where photography\, audio\, and video recording may occur. By attending\, you consent to such recording media and its release\, publication\, exhibition\, or reproduction\, including but not limited to marketing\, promotional purposes\, publication\, distribution\, and public display\, without further authorization or compensation. \n\n\n\nBy attending this event\, you acknowledge and agree that the consumption of alcoholic beverages is entirely at your own discretion and risk. We strongly encourage all attendees to drink responsibly\, adhere to local laws regarding alcohol consumption\, and make appropriate transportation arrangements if needed. The Gilbert Chamber of Commerce disclaims any and all liability related to alcohol consumption\, including any legal\, health\, or safety issues that may arise. Please drink responsibly.
X-ALT-DESC;FMTTYPE=text/html:<strong><span style="color:#FF0000\;"><span style="font-size:16px\;"><span style="font-family:verdana\;">SOLD OUT!</span></span></span><br />\n<br />\nJoin us for an exciting afternoon of networking and golf!</strong><br />\n<br />\nNine &amp\; Networking is a series of informal golf meetups that offer professionals a platform for business networking in a relaxed and enjoyable setting. Attendees can expand their network\, build relationships\, and explore business opportunities while enjoying one of their favorite pastimes.<br />\n<br />\n<strong>Tee Box Sponsorships Available!</strong> Sponsorship includes course signage only. Golfing admission is sold separately. Sponsors are invited to network after golfing is finished.<br />\n<br />\nAdmission includes nine holes of golf\, a cart\, and a drink voucher.<br -webkit-text-stroke-width:="" font-size:="" font-style:="" font-variant-caps:="" font-variant-ligatures:="" font-weight:="" letter-spacing:="" orphans:="" text-align:="" text-decoration-color:="" text-decoration-style:="" text-decoration-thickness:="" text-indent:="" text-transform:="" trebuchet="" white-space:="" widows:="" word-spacing:="" />\n<br />\n<em style="font-size: 9px\; box-sizing: border-box\; scrollbar-color: rgb(193\, 193\, 193) rgba(0\, 0\, 0\, 0)\; scrollbar-width: thin\;">When you attend this event\, you enter an area where photography\, audio\, and video recording may occur. By attending\, you consent to such recording media and its release\, publication\, exhibition\, or reproduction\, including but not limited to marketing\, promotional purposes\, publication\, distribution\, and public display\, without further authorization or compensation.&nbsp\;</em><br />\n<br />\n<span style="font-size: 9px\;"><em><span style="font-family: arial\, sans-serif\;">By attending this event\, you acknowledge and agree that the consumption of alcoholic beverages is entirely at your own discretion and risk. We strongly encourage all attendees to drink responsibly\, adhere to local laws regarding alcohol consumption\, and make appropriate transportation arrangements if needed. The Gilbert Chamber of Commerce disclaims any and all liability related to alcohol consumption\, including any legal\, health\, or safety issues that may arise. Please drink responsibly.</span></em></span>
LOCATION:Springfield Golf Resort 1200 E Andrews Blvd Chandler\, AZ 85249
UID:e.1886.6900
SEQUENCE:3
DTSTAMP:20260421T191130Z
URL:http://gilbertaz.chambermaster.com/events/details/nine-networking-chamber-6900
END:VEVENT

END:VCALENDAR
