BEGIN:VCALENDAR
VERSION:2.0
PRODID:-//ChamberMaster//Event Calendar 2.0//EN
METHOD:PUBLISH
X-PUBLISHED-TTL:P3D
REFRESH-INTERVAL:P3D
CALSCALE:GREGORIAN
BEGIN:VEVENT
DTSTART:20250328T010000Z
DTEND:20250328T030000Z
X-MICROSOFT-CDO-ALLDAYEVENT:FALSE
SUMMARY:National Civics Bee (FOUNDATION)
DESCRIPTION:The National Civics Bee  is an annual competition that inspires young Americans to engage in civics and contribute to their communities. Join us in this nonpartisan initiative to enhance civic literacy\, skills\, and participation.\n\n\n\n\n\nWhen you attend this event\, you enter an area where photography\, audio\, and video recording may occur. By attending\, you consent to such recording media and its release\, publication\, exhibition\, or reproduction\, including but not limited to marketing\, promotional purposes\, publication\, distribution\, and public display\, without further authorization or compensation.
X-ALT-DESC;FMTTYPE=text/html:<span style="font-size:11.0pt\;">The National Civics Bee&reg\; is an annual competition that inspires young Americans to engage in civics and contribute to their communities. Join us in this nonpartisan initiative to enhance civic literacy\, skills\, and participation.</span><br />\n<br />\n<br />\n<em style="font-size: 9px\; box-sizing: border-box\; scrollbar-color: rgb(193\, 193\, 193) rgba(0\, 0\, 0\, 0)\; scrollbar-width: thin\;">When you attend this event\, you enter an area where photography\, audio\, and video recording may occur. By attending\, you consent to such recording media and its release\, publication\, exhibition\, or reproduction\, including but not limited to marketing\, promotional purposes\, publication\, distribution\, and public display\, without further authorization or compensation.</em><br />\n&nbsp\;
LOCATION:Park University 92 W Vaughn Ave #101 Gilbert\, AZ 85233
UID:e.1886.6732
SEQUENCE:3
DTSTAMP:20260424T075718Z
URL:http://gilbertaz.chambermaster.com/events/details/national-civics-bee-foundation-6732
END:VEVENT

END:VCALENDAR
