BEGIN:VCALENDAR
VERSION:2.0
PRODID:-//ChamberMaster//Event Calendar 2.0//EN
METHOD:PUBLISH
X-PUBLISHED-TTL:P3D
REFRESH-INTERVAL:P3D
CALSCALE:GREGORIAN
BEGIN:VEVENT
DTSTART:20260109T153000Z
DTEND:20260109T163000Z
X-MICROSOFT-CDO-ALLDAYEVENT:FALSE
SUMMARY:Coffee & Connect (CHAMBER)
DESCRIPTION:Join us at our January Coffee & Connect!\n\n\n\nOur monthly Coffee & Connect mixers offer a relaxed setting conducive to meaningful conversations and networking opportunities.  Attendees can engage in discussions\, share experiences\, and expand their professional network in a casual and friendly environment\, often leading to valuable connections and business growth.\n\n\n\nABOUT OUR HOST\, FRED ASTAIRE DANCE STUDIO:\n\nWhether you've danced before\, or think you have two left feet\, you've come to the right place. Fred Astaire Dance Studios - Gilbert teaches couples and singles of all ages how to dance! Salsa\, Swing\, Latin\, Country and Ballroom\, we've got it all! No partner necessary! Our welcoming studio environment makes our studio the perfect place to hone your skills\, no matter at what level you are currently. Our personalized methods set the standard of excellence in dance instruction. We teach all forms of social and competitive dancing. We also have junior program in the studio! Our kids classes designed to help your child develop their flexibility\, improve posture\, learn the fundamentals of different styles and get the perfect dance education.\n\n\n\nMember Admission:\n\nChamber members receive free admission based on the benefits of their membership level. Entrepreneur level receives 1 free admission per event. Business level and above receive 2 free admissions. Additional admissions are available for purchase at $10 per additional person. \n\n\n\n* Please note that non-members are welcome to attend up to two Chamber events. After attending two events\, continued participation will require an active Chamber membership. We look forward to welcoming you as a member of our business community!\n\n\n\nWhen you attend this event\, you enter an area where photography\, audio\, and video recording may occur. By attending\, you consent to such recording media and its release\, publication\, exhibition\, or reproduction\, including but not limited to marketing\, promotional purposes\, publication\, distribution\, and public display\, without further authorization or compensation.
X-ALT-DESC;FMTTYPE=text/html:<span style="color: rgb(68\, 68\, 68)\; font-family: Arial\, Helvetica\, sans-serif\; font-size: 13px\; background-color: rgb(255\, 255\, 255)\;"><em><strong>Join us at our January Coffee &amp\; Connect!</strong></em><br />\n<br />\nOur monthly Coffee &amp\; Connect mixers offer a relaxed setting conducive to meaningful conversations and networking opportunities.&nbsp\; Attendees can engage in discussions\, share experiences\, and expand their professional network in a casual and friendly environment\, often leading to valuable connections and business growth.</span><br />\n<br />\n<span style="color: rgb(68\, 68\, 68)\; font-family: Arial\, Helvetica\, sans-serif\; font-weight: 700\;">ABOUT OUR HOST\, FRED ASTAIRE DANCE STUDIO:</span><br />\nWhether you&rsquo\;ve danced before\, or think you have two left feet\, you&rsquo\;ve come to the right place. Fred Astaire Dance Studios - Gilbert teaches couples and singles of all ages how to dance! Salsa\, Swing\, Latin\, Country and Ballroom\, we&#39\;ve got it all! No partner necessary! Our welcoming studio environment makes our studio the perfect place to hone your skills\, no matter at what level you are currently. Our personalized methods set the standard of excellence in dance instruction. We teach all forms of social and competitive dancing. We also have junior program in the studio! Our kids classes designed to help your child develop their flexibility\, improve posture\, learn the fundamentals of different styles and get the perfect dance education.<br />\n<br />\n<u><strong>Member Admission:</strong></u><br />\nChamber members receive free admission based on the benefits of their membership level. Entrepreneur level receives 1 free admission per event. Business level and above receive 2 free admissions. Additional admissions are available for purchase at $10 per additional person.&nbsp\;<br />\n<br />\n<span style="color: rgba(0\, 0\, 0\, 0.87)\; font-family: Poppins\, sans-serif\; font-size: 11px\;">* Please note that non-members are welcome to attend up to two Chamber events. After attending two events\, continued participation will require an active Chamber membership. We look forward to welcoming you as a member of our business community!</span><br />\n<br />\n<em style="font-size: 9px\; box-sizing: border-box\; scrollbar-color: rgb(193\, 193\, 193) rgba(0\, 0\, 0\, 0)\; scrollbar-width: thin\;">When you attend this event\, you enter an area where photography\, audio\, and video recording may occur. By attending\, you consent to such recording media and its release\, publication\, exhibition\, or reproduction\, including but not limited to marketing\, promotional purposes\, publication\, distribution\, and public display\, without further authorization or compensation.&nbsp\;</em><br />\n&nbsp\;
LOCATION:Fred Astaire Dance Studio 1435 E Warner Rd Ste 105 Gilbert\, Az 85296
UID:e.1886.6924
SEQUENCE:3
DTSTAMP:20260423T141349Z
URL:http://gilbertaz.chambermaster.com/events/details/coffee-connect-chamber-6924
END:VEVENT

END:VCALENDAR
