BEGIN:VCALENDAR
VERSION:2.0
PRODID:-//ChamberMaster//Event Calendar 2.0//EN
METHOD:PUBLISH
X-PUBLISHED-TTL:P3D
REFRESH-INTERVAL:P3D
CALSCALE:GREGORIAN
BEGIN:VEVENT
DTSTART:20251212T153000Z
DTEND:20251212T163000Z
X-MICROSOFT-CDO-ALLDAYEVENT:FALSE
SUMMARY:Coffee & Connect (CHAMBER)
DESCRIPTION:Join us at our December Coffee & Connect!\n\n\n\nOur monthly Coffee & Connect mixers offer a relaxed setting conducive to meaningful conversations and networking opportunities.  Attendees can engage in discussions\, share experiences\, and expand their professional network in a casual and friendly environment\, often leading to valuable connections and business growth.\n\n\n\nABOUT OUR HOST\, FUSION ACADEMY:\n\nEvery student is so different. But traditional schools treat them all the same. Fusion Academy's 1-to-1 classes put your student at the center of their learning experience. They'll develop the confidence and independence required for college and career success   all to ensure they reach their limitless potential. Fusion Academy Gilbert accepts both AZ ESA (Empowerment Scholarship) and AZ STO (School Tuition Organization) funding. Connect with us for more details.\n\n\n\n* Please note that non-members are welcome to attend up to two Chamber events. After attending two events\, continued participation will require an active Chamber membership. We look forward to welcoming you as a member of our business community!\n\n\n\nWhen you attend this event\, you enter an area where photography\, audio\, and video recording may occur. By attending\, you consent to such recording media and its release\, publication\, exhibition\, or reproduction\, including but not limited to marketing\, promotional purposes\, publication\, distribution\, and public display\, without further authorization or compensation.
X-ALT-DESC;FMTTYPE=text/html:<span style="color: rgb(68\, 68\, 68)\; font-family: Arial\, Helvetica\, sans-serif\; font-size: 13px\; background-color: rgb(255\, 255\, 255)\;"><em><strong>Join us at our December Coffee &amp\; Connect!</strong></em><br />\n<br />\nOur monthly Coffee &amp\; Connect mixers offer a relaxed setting conducive to meaningful conversations and networking opportunities.&nbsp\; Attendees can engage in discussions\, share experiences\, and expand their professional network in a casual and friendly environment\, often leading to valuable connections and business growth.</span><br />\n<br />\n<span style="color: rgb(68\, 68\, 68)\; font-family: Arial\, Helvetica\, sans-serif\; font-weight: 700\;">ABOUT OUR HOST\, FUSION ACADEMY:</span><br />\nEvery student is so different. But traditional schools treat them all the same. Fusion Academy&rsquo\;s 1-to-1 classes put your student at the center of their learning experience. They&rsquo\;ll develop the confidence and independence required for college and career success &ndash\; all to ensure they reach their limitless potential. Fusion Academy Gilbert accepts both AZ ESA (Empowerment Scholarship) and AZ STO (School Tuition Organization) funding. Connect with us for more details.<br />\n<br />\n<span style="color: rgba(0\, 0\, 0\, 0.87)\; font-family: Poppins\, sans-serif\; font-size: 11px\;">* Please note that non-members are welcome to attend up to two Chamber events. After attending two events\, continued participation will require an active Chamber membership. We look forward to welcoming you as a member of our business community!</span><br />\n<br />\n<em style="font-size: 9px\; box-sizing: border-box\; scrollbar-color: rgb(193\, 193\, 193) rgba(0\, 0\, 0\, 0)\; scrollbar-width: thin\;">When you attend this event\, you enter an area where photography\, audio\, and video recording may occur. By attending\, you consent to such recording media and its release\, publication\, exhibition\, or reproduction\, including but not limited to marketing\, promotional purposes\, publication\, distribution\, and public display\, without further authorization or compensation.&nbsp\;</em><br />\n&nbsp\;
LOCATION:Fusion Academy 400 E. Rivulon Blvd Gilbert\, Az 85297
UID:e.1886.6918
SEQUENCE:3
DTSTAMP:20260422T033405Z
URL:http://gilbertaz.chambermaster.com/events/details/coffee-connect-chamber-6918
END:VEVENT

END:VCALENDAR
