BEGIN:VCALENDAR
VERSION:2.0
PRODID:-//ChamberMaster//Event Calendar 2.0//EN
METHOD:PUBLISH
X-PUBLISHED-TTL:P3D
REFRESH-INTERVAL:P3D
CALSCALE:GREGORIAN
BEGIN:VEVENT
DTSTART:20251114T153000Z
DTEND:20251114T163000Z
X-MICROSOFT-CDO-ALLDAYEVENT:FALSE
SUMMARY:Coffee & Connect (CHAMBER)
DESCRIPTION:Join us at our November Coffee & Connect!\n\n\n\nOur monthly Coffee & Connect mixers offer a relaxed setting conducive to meaningful conversations and networking opportunities.  Attendees can engage in discussions\, share experiences\, and expand their professional network in a casual and friendly environment\, often leading to valuable connections and business growth.\n\n\n\nABOUT OUR HOSTS:    Rediscover your vitality with Body Vitality\, a premier health and wellness clinic in Gilbert\, AZ.  Designed for men and women ready to take control of aging\, we focus on what matters most  balancing hormones\, boosting metabolism\, sharpening cognitive function\, optimizing diet and body composition\, and supporting mental health. With our convenient subscription service model\, you'll enjoy personalized care tailored to help you feel your best\, inside and out. Take the first step toward a healthier\, energized you!\n"At Body Vitality we empower our patients to live their best life no matter their age."\n\n-Paul Schmidt\, PA-C\n\n\n* Please note that non-members are welcome to attend up to two Chamber events. After attending two events\, continued participation will require an active Chamber membership. We look forward to welcoming you as a member of our business community!\n\n\n\nWhen you attend this event\, you enter an area where photography\, audio\, and video recording may occur. By attending\, you consent to such recording media and its release\, publication\, exhibition\, or reproduction\, including but not limited to marketing\, promotional purposes\, publication\, distribution\, and public display\, without further authorization or compensation.
X-ALT-DESC;FMTTYPE=text/html:<span style="color: rgb(68\, 68\, 68)\; font-family: Arial\, Helvetica\, sans-serif\; font-size: 13px\; background-color: rgb(255\, 255\, 255)\;"><em><strong>Join us at our November Coffee &amp\; Connect!</strong></em><br />\n<br />\nOur monthly Coffee &amp\; Connect mixers offer a relaxed setting conducive to meaningful conversations and networking opportunities.&nbsp\; Attendees can engage in discussions\, share experiences\, and expand their professional network in a casual and friendly environment\, often leading to valuable connections and business growth.<br />\n<br />\n<span style="font-size:14px\;"><u><strong>ABOUT OUR HOSTS:</strong></u><strong>&nbsp\;&nbsp\;</strong>&nbsp\;&nbsp\;</span></span><span style="font-family: arial\; font-size: 12px\; color: rgb(0\, 0\, 0)\; text-align: center\;">Rediscover your vitality with Body Vitality\, a premier health and wellness clinic in Gilbert\, AZ.&nbsp\;&nbsp\;</span><span style="font-family: arial\; font-size: 12px\; color: rgb(0\, 0\, 0)\; text-align: center\;">Designed for men and women ready to take control of aging\, we focus on what matters most&mdash\; balancing hormones\, boosting metabolism\, sharpening cognitive function\, optimizing diet and body composition\, and supporting mental health. With our convenient subscription service model\, you&rsquo\;ll enjoy personalized care tailored to help you feel your best\, inside and out. Take the first step toward a healthier\, energized you!</span>\n<p style="box-sizing: border-box\; margin: 0px auto\; position: relative\; font-size: 26px\; line-height: 1.4\; color: rgb(13\, 31\, 141)\; max-width: 1350px\; font-family: myriad-pro\, sans-serif\; text-align: center\; background-color: rgb(255\, 255\, 255)\;"><span style="color:#000000\;"><span style="font-size:12px\;"><span style="font-family:arial\;"><span style="box-sizing: border-box\; font-weight: 700\;">&ldquo\;At Body Vitality we empower our patients to live their best life no matter their age.&rdquo\;<br style="box-sizing: border-box\;" />\n-Paul Schmidt\, PA-C</span></span></span></span></p>\n<br />\n<span style="color: rgba(0\, 0\, 0\, 0.87)\; font-family: Poppins\, sans-serif\; font-size: 11px\;">* Please note that non-members are welcome to attend up to two Chamber events. After attending two events\, continued participation will require an active Chamber membership. We look forward to welcoming you as a member of our business community!</span><br />\n<br />\n<em style="font-size: 9px\; box-sizing: border-box\; scrollbar-color: rgb(193\, 193\, 193) rgba(0\, 0\, 0\, 0)\; scrollbar-width: thin\;">When you attend this event\, you enter an area where photography\, audio\, and video recording may occur. By attending\, you consent to such recording media and its release\, publication\, exhibition\, or reproduction\, including but not limited to marketing\, promotional purposes\, publication\, distribution\, and public display\, without further authorization or compensation.&nbsp\;</em><br />\n&nbsp\;
LOCATION:Body Vitality 2174 E Williams Field Rd Bldg. 4\, Suite 200 Gilbert\, Az 85295 **Located in the Upper Level Office Suites between Hollister and Evereve at San Tan Village Mall**
UID:e.1886.6904
SEQUENCE:3
DTSTAMP:20260423T162422Z
URL:http://gilbertaz.chambermaster.com/events/details/coffee-connect-chamber-6904
END:VEVENT

END:VCALENDAR
