BEGIN:VCALENDAR
VERSION:2.0
PRODID:-//ChamberMaster//Event Calendar 2.0//EN
METHOD:PUBLISH
X-PUBLISHED-TTL:P3D
REFRESH-INTERVAL:P3D
CALSCALE:GREGORIAN
BEGIN:VEVENT
DTSTART:20250808T153000Z
DTEND:20250808T163000Z
X-MICROSOFT-CDO-ALLDAYEVENT:FALSE
SUMMARY:Coffee & Connect (CHAMBER)
DESCRIPTION:Join us at our August Coffee & Connect!\n\n\n\nOur monthly Coffee & Connect mixers offer a relaxed setting conducive to meaningful conversations and networking opportunities.  Attendees can engage in discussions\, share experiences\, and expand their professional network in a casual and friendly environment\, often leading to valuable connections and business growth.\n\n\n\n\n\nABOUT OUR HOSTS\, WHATABURGER:\n\nWhataburger opened in 1950 as the hometown burger stop for Corpus Christi\, TX. We have since grown to almost 1\,100 stores across the Southern US. As one of the few restaurants that are open 24/7\, 364 days a year (closed on Christmas)\, we pride ourselves on serving people Just the Way You Like It."\n\n\n\n\n\n* Please note that non-members are welcome to attend up to two Chamber events. After attending two events\, continued participation will require an active Chamber membership. We look forward to welcoming you as a member of our business community!\n\n\n\nWhen you attend this event\, you enter an area where photography\, audio\, and video recording may occur. By attending\, you consent to such recording media and its release\, publication\, exhibition\, or reproduction\, including but not limited to marketing\, promotional purposes\, publication\, distribution\, and public display\, without further authorization or compensation.
X-ALT-DESC;FMTTYPE=text/html:<span style="color: rgb(68\, 68\, 68)\; font-family: Arial\, Helvetica\, sans-serif\; font-size: 13px\; background-color: rgb(255\, 255\, 255)\;"><em><strong>Join us at our August Coffee &amp\; Connect!</strong></em><br />\n<br />\nOur monthly Coffee &amp\; Connect mixers offer a relaxed setting conducive to meaningful conversations and networking opportunities.&nbsp\; Attendees can engage in discussions\, share experiences\, and expand their professional network in a casual and friendly environment\, often leading to valuable connections and business growth.</span><br style="box-sizing: border-box\; border-width: 0px\; border-style: solid\; border-color: rgb(199\, 198\, 197)\; color: rgb(68\, 68\, 68)\; font-family: Arial\, Helvetica\, sans-serif\; font-size: 13px\; background-color: rgb(255\, 255\, 255)\;" />\n<br />\n<br style="box-sizing: border-box\; border-width: 0px\; border-style: solid\; border-color: rgb(199\, 198\, 197)\; color: rgb(68\, 68\, 68)\; font-family: Arial\, Helvetica\, sans-serif\; font-size: 13px\; background-color: rgb(255\, 255\, 255)\;" />\n<u><strong>ABOUT OUR HOSTS\, WHATABURGER:</strong></u><br />\nWhataburger opened in 1950 as the hometown burger stop for Corpus Christi\, TX. We have since grown to almost 1\,100 stores across the Southern US. As one of the few restaurants that are open 24/7\, 364 days a year (closed on Christmas)\, we pride ourselves on serving people Just the Way You Like It.&rdquo\;<br />\n<br />\n<br />\n<span style="color: rgba(0\, 0\, 0\, 0.87)\; font-family: Poppins\, sans-serif\; font-size: 11px\;">* Please note that non-members are welcome to attend up to two Chamber events. After attending two events\, continued participation will require an active Chamber membership. We look forward to welcoming you as a member of our business community!</span><br />\n<br />\n<em style="font-size: 9px\; box-sizing: border-box\; scrollbar-color: rgb(193\, 193\, 193) rgba(0\, 0\, 0\, 0)\; scrollbar-width: thin\;">When you attend this event\, you enter an area where photography\, audio\, and video recording may occur. By attending\, you consent to such recording media and its release\, publication\, exhibition\, or reproduction\, including but not limited to marketing\, promotional purposes\, publication\, distribution\, and public display\, without further authorization or compensation.&nbsp\;</em><br />\n&nbsp\;
LOCATION:Whataburger 2590 S. Market St. Gilbert AZ 85295
UID:e.1886.6842
SEQUENCE:3
DTSTAMP:20260423T033832Z
URL:http://gilbertaz.chambermaster.com/events/details/coffee-connect-chamber-6842
END:VEVENT

END:VCALENDAR
