BEGIN:VCALENDAR
VERSION:2.0
PRODID:-//ChamberMaster//Event Calendar 2.0//EN
METHOD:PUBLISH
X-PUBLISHED-TTL:P3D
REFRESH-INTERVAL:P3D
CALSCALE:GREGORIAN
BEGIN:VEVENT
DTSTART:20250110T153000Z
DTEND:20250110T163000Z
X-MICROSOFT-CDO-ALLDAYEVENT:FALSE
SUMMARY:Coffee & Connect (CHAMBER)
DESCRIPTION:Coffee & Connect events offer a relaxed setting conducive to meaningful conversations and networking opportunities. Attendees can engage in discussions\, share experiences\, and expand their professional network in a casual and friendly environment\, often leading to valuable connections and business growth.\n\n\n\nJoin us for this Coffee & Connect event!\n\n\n\nWhen you attend this event\, you enter an area where photography\, audio\, and video recording may occur. By attending\, you consent to such recording media and its release\, publication\, exhibition\, or reproduction\, including but not limited to marketing\, promotional purposes\, publication\, distribution\, and public display\, without further authorization or compensation.
X-ALT-DESC;FMTTYPE=text/html:<span style="color: rgb(68\, 68\, 68)\; font-family: Arial\, Helvetica\, sans-serif\; font-size: 13px\; background-color: rgb(255\, 255\, 255)\;">Coffee &amp\; Connect events offer a relaxed setting conducive to meaningful conversations and networking opportunities. Attendees can engage in discussions\, share experiences\, and expand their professional network in a casual and friendly environment\, often leading to valuable connections and business growth.</span><br style="box-sizing: border-box\; border-width: 0px\; border-style: solid\; border-color: rgb(199\, 198\, 197)\; color: rgb(68\, 68\, 68)\; font-family: Arial\, Helvetica\, sans-serif\; font-size: 13px\; background-color: rgb(255\, 255\, 255)\;" />\n<br style="box-sizing: border-box\; border-width: 0px\; border-style: solid\; border-color: rgb(199\, 198\, 197)\; color: rgb(68\, 68\, 68)\; font-family: Arial\, Helvetica\, sans-serif\; font-size: 13px\; background-color: rgb(255\, 255\, 255)\;" />\n<span style="color: rgb(68\, 68\, 68)\; font-family: Arial\, Helvetica\, sans-serif\; font-size: 13px\; background-color: rgb(255\, 255\, 255)\;">Join us for this Coffee &amp\; Connect event!</span><br />\n<br />\n<em style="font-size: 9px\; box-sizing: border-box\; scrollbar-color: rgb(193\, 193\, 193) rgba(0\, 0\, 0\, 0)\; scrollbar-width: thin\;">When you attend this event\, you enter an area where photography\, audio\, and video recording may occur. By attending\, you consent to such recording media and its release\, publication\, exhibition\, or reproduction\, including but not limited to marketing\, promotional purposes\, publication\, distribution\, and public display\, without further authorization or compensation.&nbsp\;</em><br />\n&nbsp\;
LOCATION:Mercedes-Benz of Gilbert 3455 S. Gilbert Rd. Gilbert\, AZ 85297 Valet parking will be provided to all guests for this Coffee and Connect. Please pull up to the main entrance upon arrival.
UID:e.1886.6699
SEQUENCE:3
DTSTAMP:20260423T222546Z
URL:http://gilbertaz.chambermaster.com/events/details/coffee-connect-chamber-6699
END:VEVENT

END:VCALENDAR
