BEGIN:VCALENDAR
VERSION:2.0
PRODID:-//ChamberMaster//Event Calendar 2.0//EN
METHOD:PUBLISH
X-PUBLISHED-TTL:P3D
REFRESH-INTERVAL:P3D
CALSCALE:GREGORIAN
BEGIN:VEVENT
DTSTART:20240911T220000Z
DTEND:20240912T000000Z
X-MICROSOFT-CDO-ALLDAYEVENT:FALSE
SUMMARY:A Civic Event (FOUNDATION)
DESCRIPTION:In partnership with Citizen University\, the Civic Event series gatherings address civic issues and foster community engagement. Through discussions and presentations\, participants explore topics relevant to the community's development and collaborate on potential solutions\, aiming to promote civic engagement\, activate the community\, and enhance the quality of life for residents.\n\n \n\nJoin us and get to know your neighbors\, your candidates\, your chamber\, and your new friends.\n\n \n\nWhat is A Civic Event?\n\n \n\nCommunities need\, more than ever\, the space to grow together in productive\, meaningful ways. At the Gilbert Chamber of Commerce Foundation\, we host a gathering that we call 'A Civic Event' that brings together various members of the community to experience art\, music\, food\, poetry\, a relevant civic message\, and impactful dialogue. Each event is a little unique as some of the elements change with the venue\, but participants leave feeling engaged and empowered. We create space to share new perspectives that encourage our community to find ways of connecting intentionally with each other.\n\n\n\nThis event will partner with Arizona Town Hall and focus on Voting and Elections in Arizona
X-ALT-DESC;FMTTYPE=text/html:<span style="background:white\;"><span style="color:#333333\;"><span style="font-size:10.0pt\;">In partnership with Citizen University\, the&nbsp\;</span></span></span>Civic Event series gatherings address civic issues and foster community engagement. Through discussions and presentations\, participants explore topics relevant to the community&#39\;s development and collaborate on potential solutions\, aiming to promote civic engagement\, activate the community\, and enhance the quality of life for residents.<br />\n&nbsp\;<br />\n<span style="background:white\;"><span style="color:#333333\;"><span style="font-size:10.0pt\;">Join us and get to know your neighbors\, your candidates\, your chamber\, and your new friends.</span></span></span><br />\n&nbsp\;<br />\nWhat is A Civic Event?<br />\n&nbsp\;<br />\nCommunities need\, more than ever\, the space to grow together in productive\, meaningful ways. At the Gilbert Chamber of Commerce Foundation\, we host a gathering that we call &lsquo\;A Civic Event&rsquo\; that brings together various members of the community to experience art\, music\, food\, poetry\, a relevant civic message\, and impactful dialogue. Each event is a little unique as some of the elements change with the venue\, but participants leave feeling engaged and empowered. We create space to share new perspectives that encourage our community to find ways of connecting intentionally with each other.<br />\n<br />\nThis event will partner with Arizona Town Hall and focus on Voting and Elections in Arizona
LOCATION:The Acre 1221 N Greenfield Rd\, Gilbert\, AZ 85234
UID:e.1886.6610
SEQUENCE:3
DTSTAMP:20260424T192632Z
URL:http://gilbertaz.chambermaster.com/events/details/a-civic-event-foundation-6610
END:VEVENT

END:VCALENDAR
